BEGIN:VCALENDAR
VERSION:2.0
PRODID:-//Boulder Area of Narcotics Anonymous - ECPv5.13.0//NONSGML v1.0//EN
CALSCALE:GREGORIAN
METHOD:PUBLISH
X-WR-CALNAME:Boulder Area of Narcotics Anonymous
X-ORIGINAL-URL:http://naboulder.org
X-WR-CALDESC:Events for Boulder Area of Narcotics Anonymous
BEGIN:VTIMEZONE
TZID:America/Denver
BEGIN:DAYLIGHT
TZOFFSETFROM:-0700
TZOFFSETTO:-0600
TZNAME:MDT
DTSTART:20250309T090000
END:DAYLIGHT
BEGIN:STANDARD
TZOFFSETFROM:-0600
TZOFFSETTO:-0700
TZNAME:MST
DTSTART:20251102T080000
END:STANDARD
END:VTIMEZONE
BEGIN:VEVENT
DTSTART;TZID=America/Denver:20251031T190000
DTEND;TZID=America/Denver:20251031T220000
DTSTAMP:20260420T105956
CREATED:20251013T222143Z
LAST-MODIFIED:20251013T222143Z
UID:3505-1761937200-1761948000@naboulder.org
SUMMARY:NA Halloween Fun Night and Potluck
DESCRIPTION:NA Halloween Flyer
URL:http://naboulder.org/event/na-halloween-fun-night-and-potluck/
LOCATION:First Congregational Church\, 1128 Pine Street\, Boulder\, Colorado
END:VEVENT
END:VCALENDAR