BEGIN:VCALENDAR
VERSION:2.0
PRODID:-//Boulder Area of Narcotics Anonymous - ECPv5.13.0//NONSGML v1.0//EN
CALSCALE:GREGORIAN
METHOD:PUBLISH
X-WR-CALNAME:Boulder Area of Narcotics Anonymous
X-ORIGINAL-URL:https://naboulder.org
X-WR-CALDESC:Events for Boulder Area of Narcotics Anonymous
BEGIN:VTIMEZONE
TZID:America/Denver
BEGIN:DAYLIGHT
TZOFFSETFROM:-0700
TZOFFSETTO:-0600
TZNAME:MDT
DTSTART:20230312T090000
END:DAYLIGHT
BEGIN:STANDARD
TZOFFSETFROM:-0600
TZOFFSETTO:-0700
TZNAME:MST
DTSTART:20231105T080000
END:STANDARD
END:VTIMEZONE
BEGIN:VEVENT
DTSTART;TZID=America/Denver:20231209T120000
DTEND;TZID=America/Denver:20231209T170000
DTSTAMP:20260420T082525
CREATED:20231105T180232Z
LAST-MODIFIED:20231112T174438Z
UID:3175-1702123200-1702141200@naboulder.org
SUMMARY:Holiday Ice Skating 2023
DESCRIPTION:All information available on flyer
URL:https://naboulder.org/event/holiday-ice-skating/
LOCATION:725 8th street\, 725 8th street\, longmont\, CO\, 80501\, United States
END:VEVENT
END:VCALENDAR