BEGIN:VCALENDAR
VERSION:2.0
PRODID:-//Boulder Area of Narcotics Anonymous - ECPv5.13.0//NONSGML v1.0//EN
CALSCALE:GREGORIAN
METHOD:PUBLISH
X-WR-CALNAME:Boulder Area of Narcotics Anonymous
X-ORIGINAL-URL:https://naboulder.org
X-WR-CALDESC:Events for Boulder Area of Narcotics Anonymous
BEGIN:VTIMEZONE
TZID:America/Denver
BEGIN:DAYLIGHT
TZOFFSETFROM:-0700
TZOFFSETTO:-0600
TZNAME:MDT
DTSTART:20260308T090000
END:DAYLIGHT
BEGIN:STANDARD
TZOFFSETFROM:-0600
TZOFFSETTO:-0700
TZNAME:MST
DTSTART:20261101T080000
END:STANDARD
END:VTIMEZONE
BEGIN:VEVENT
DTSTART;TZID=America/Denver:20260525T110000
DTEND;TZID=America/Denver:20260525T170000
DTSTAMP:20260421T103835
CREATED:20260420T134158Z
LAST-MODIFIED:20260420T134158Z
UID:3587-1779706800-1779728400@naboulder.org
SUMMARY:Memorial Day BBQ Party
DESCRIPTION:
URL:https://naboulder.org/event/memorial-day-bbq-party/
LOCATION:LaMont Does Memorial Park\, 500 E South Boulder Rd.\, Lafayette\, 80026\, United States
END:VEVENT
END:VCALENDAR