BEGIN:VCALENDAR
VERSION:2.0
PRODID:-//Boulder Area of Narcotics Anonymous - ECPv5.13.0//NONSGML v1.0//EN
CALSCALE:GREGORIAN
METHOD:PUBLISH
X-WR-CALNAME:Boulder Area of Narcotics Anonymous
X-ORIGINAL-URL:https://naboulder.org
X-WR-CALDESC:Events for Boulder Area of Narcotics Anonymous
BEGIN:VTIMEZONE
TZID:America/Denver
BEGIN:DAYLIGHT
TZOFFSETFROM:-0700
TZOFFSETTO:-0600
TZNAME:MDT
DTSTART:20240310T090000
END:DAYLIGHT
BEGIN:STANDARD
TZOFFSETFROM:-0600
TZOFFSETTO:-0700
TZNAME:MST
DTSTART:20241103T080000
END:STANDARD
END:VTIMEZONE
BEGIN:VEVENT
DTSTART;TZID=America/Denver:20240101T080000
DTEND;TZID=America/Denver:20240229T170000
DTSTAMP:20260422T095744
CREATED:20231001T163416Z
LAST-MODIFIED:20240116T185632Z
UID:3163-1704096000-1709226000@naboulder.org
SUMMARY:NA Boulder Homegroup Capture the Flag
DESCRIPTION:This is a fun and competitive way to get groups to attend other meetings and promote more unity. Every month the meeting with the most flags captured gets the golden unity flag. See below the flyer for full instructions. \n \nCapture the Flag 2024 Instructions – document link\, written below too: \nHow to play:\nTo capture a flag\, 3 homegroup members or 5 if your home group has 8 or more members must show up early to whichever meeting has a flag. Announce you are there to capture the flag and stay till the closing prayer. The flag now belongs to your home group. It can only be capture from you if\nthe required number of members from another home group comes to your home group to capture it.\nAll those hoping to capture the flag must show up early (before the meeting starts) and announce they have come to capture the flag.\nIf two or more groups show up to capture the flag\, the first complete group to announce their intentions will be the victors!\nOnce the meeting starts the flag is safe and can not be captured. If no one has announced they are there to capture it.\nIf the meeting is interrupted by tardy flag seekers\, the secretary is encouraged to throw a copy of IP #12 (triangle of self obsession) at them and tell them to keep coming back.\nPlease write the name of your home group and date on the flag when you capture it.\nFlag must be displayed during the meeting if your home group has possession of a flag. It can not be hidden or out of sight.\n3 or all if less than 3 of your female home group members can capture the flag of a women’s meeting and 3 or all of your male members can capture the flag of a men’s meeting.\nHave fun!
URL:https://naboulder.org/event/na-boulder-homegroup-capture-the-flag/
END:VEVENT
END:VCALENDAR